BEGIN:VCALENDAR
VERSION:2.0
PRODID:-//kjr-dachau//kjr-dachau.de//DE
METHOD:PUBLISH
CALSCALE:GREGORIAN
BEGIN:VEVENT
UID:8735@kjr-dachau.de
DTSTAMP:20260423T090322
DTSTART:20210614T150000
DTEND:20210614T170000
SUMMARY:Schutzkonzepte - Handlungsempfehlungen für Träger der Kinder- und Jugendarbeit
LOCATION:Online
DESCRIPTION:Details unter https://www.kjr-dachau.de/veranstaltung/schutzkonzepte-handlungsempfehlungen-fuer-traeger-der-kinder-und-jugendarbeit
END:VEVENT
END:VCALENDAR