BEGIN:VCALENDAR
VERSION:2.0
PRODID:-//kjr-dachau//kjr-dachau.de//DE
METHOD:PUBLISH
CALSCALE:GREGORIAN
BEGIN:VEVENT
UID:17427@kjr-dachau.de
DTSTAMP:20260424T145536
DTSTART:20250408T090000
DTEND:20250408T133000
SUMMARY:Schulveranstaltung mit Filmvorführung und Workshops zu Antisemitismus & Nahostkonflikt
LOCATION:
DESCRIPTION:Details unter https://www.kjr-dachau.de/veranstaltung/schulveranstaltung-mit-filmvorfuehrung-und-workshops-zu-antisemitismus-nahostkonflikt
END:VEVENT
END:VCALENDAR