BEGIN:VCALENDAR
VERSION:2.0
PRODID:-//kjr-dachau//kjr-dachau.de//DE
METHOD:PUBLISH
CALSCALE:GREGORIAN
BEGIN:VEVENT
UID:16577@kjr-dachau.de
DTSTAMP:20260420T131241
DTSTART:20240801T193000
DTEND:20240801T220000
SUMMARY:Filmvorführung "The white raven" und Gespräch mit Regisseurin Carolin Otto
LOCATION:
DESCRIPTION:Details unter https://www.kjr-dachau.de/veranstaltung/filmvorfuehrung-the-white-raven-und-gespraech-mit-regisseurin-carolin-otto
END:VEVENT
END:VCALENDAR