BEGIN:VCALENDAR
VERSION:2.0
PRODID:-//kjr-dachau//kjr-dachau.de//DE
METHOD:PUBLISH
CALSCALE:GREGORIAN
BEGIN:VEVENT
UID:15199@kjr-dachau.de
DTSTAMP:20260421T102813
DTSTART:20240118T190000
DTEND:20240118T210000
SUMMARY:Kick-Off-Meeting Jugendfestival
LOCATION:
DESCRIPTION:Details unter https://www.kjr-dachau.de/veranstaltung/kick-off-meeting-jugendfestival
END:VEVENT
END:VCALENDAR