BEGIN:VCALENDAR
VERSION:2.0
PRODID:-//kjr-dachau//kjr-dachau.de//DE
METHOD:PUBLISH
CALSCALE:GREGORIAN
BEGIN:VEVENT
UID:13539@kjr-dachau.de
DTSTAMP:20260421T085212
DTSTART:20230429T140000
DTEND:20230429T180000
SUMMARY:Dachauer Kindertag
LOCATION:Ludwig-Ernst-Park, 85221 Dachau
DESCRIPTION:Details unter https://www.kjr-dachau.de/veranstaltung/dachauer-kindertag
END:VEVENT
END:VCALENDAR