BEGIN:VCALENDAR
VERSION:2.0
PRODID:-//kjr-dachau//kjr-dachau.de//DE
METHOD:PUBLISH
CALSCALE:GREGORIAN
BEGIN:VEVENT
UID:12900@kjr-dachau.de
DTSTAMP:20260420T233819
DTSTART:20230713T080000
DTEND:20230714T170000
SUMMARY:Wer wenn nicht ihr?! Studien- und Aktionstage für mehr Demokratie an Schulen
LOCATION:Max Mannheimer Haus, Pavillon
DESCRIPTION:Details unter https://www.kjr-dachau.de/veranstaltung/wer-wenn-nicht-ihr-studien-und-aktionstage-fuer-mehr-demokratie-an-schulen
END:VEVENT
END:VCALENDAR