BEGIN:VCALENDAR
VERSION:2.0
PRODID:-//kjr-dachau//kjr-dachau.de//DE
METHOD:PUBLISH
CALSCALE:GREGORIAN
BEGIN:VEVENT
UID:10387@kjr-dachau.de
DTSTAMP:20260423T090322
DTSTART:20220806T140000
DTEND:20220807T235900
SUMMARY:Jubiläumsfeier: 40 Jahre Internationale Jugendbegegnung
LOCATION:Max-Mannheimer-Haus Dachau
DESCRIPTION:Details unter https://www.kjr-dachau.de/veranstaltung/40-jahre-internationale-jugendbegegnung
END:VEVENT
END:VCALENDAR